Package: CAGEfightR Version: 1.29.1 Command: /Library/Frameworks/R.framework/Resources/bin/R CMD check --install=check:CAGEfightR.install-out.txt --library=/Library/Frameworks/R.framework/Resources/library --no-vignettes --timings CAGEfightR_1.29.1.tar.gz StartedAt: 2025-10-19 18:45:36 -0400 (Sun, 19 Oct 2025) EndedAt: 2025-10-19 18:48:08 -0400 (Sun, 19 Oct 2025) EllapsedTime: 152.8 seconds RetCode: 0 Status: OK CheckDir: CAGEfightR.Rcheck Warnings: 0