Package: CAGEfightR Version: 1.29.1 Command: /Library/Frameworks/R.framework/Resources/bin/R CMD build --keep-empty-dirs --no-resave-data CAGEfightR StartedAt: 2025-10-19 15:49:19 -0400 (Sun, 19 Oct 2025) EndedAt: 2025-10-19 15:50:42 -0400 (Sun, 19 Oct 2025) EllapsedTime: 82.9 seconds RetCode: 0 Status: OK PackageFile: CAGEfightR_1.29.1.tar.gz PackageFileSize: 1.705 MiB