Package: CAGEfightR Version: 1.29.1 Command: rm -rf CAGEfightR.buildbin-libdir && mkdir CAGEfightR.buildbin-libdir && /Users/biocbuild/BBS/utils/build-universal.sh CAGEfightR_1.29.1.tar.gz /Library/Frameworks/R.framework/Resources/bin/R CAGEfightR.buildbin-libdir StartedAt: 2025-10-19 22:52:54 -0400 (Sun, 19 Oct 2025) EndedAt: 2025-10-19 22:53:16 -0400 (Sun, 19 Oct 2025) EllapsedTime: 22.5 seconds RetCode: 0 Status: OK PackageFile: CAGEfightR_1.29.1.tgz PackageFileSize: 2.627 MiB