Package: CAFE Version: 1.45.0 Command: /Library/Frameworks/R.framework/Resources/bin/R CMD INSTALL CAFE StartedAt: 2025-10-01 15:46:09 -0400 (Wed, 01 Oct 2025) EndedAt: 2025-10-01 15:47:24 -0400 (Wed, 01 Oct 2025) EllapsedTime: 74.9 seconds RetCode: 0 Status: OK