Package: BufferedMatrix Version: 1.73.0 Command: /Library/Frameworks/R.framework/Resources/bin/R CMD INSTALL BufferedMatrix StartedAt: 2025-10-20 15:01:23 -0400 (Mon, 20 Oct 2025) EndedAt: 2025-10-20 15:01:26 -0400 (Mon, 20 Oct 2025) EllapsedTime: 3.2 seconds RetCode: 0 Status: OK