Package: BubbleTree Version: 2.39.0 Command: /home/biocbuild/R/R/bin/R CMD build --keep-empty-dirs --no-resave-data BubbleTree StartedAt: 2025-10-20 22:24:32 -0000 (Mon, 20 Oct 2025) EndedAt: 2025-10-20 22:26:15 -0000 (Mon, 20 Oct 2025) EllapsedTime: 103.0 seconds RetCode: 1 Status: ERROR PackageFile: None PackageFileSize: NA