Package: BubbleTree Version: 2.39.0 Command: /home/biocbuild/bbs-3.22-bioc/R/bin/R CMD INSTALL BubbleTree StartedAt: 2025-10-20 15:42:23 -0400 (Mon, 20 Oct 2025) EndedAt: 2025-10-20 15:43:13 -0400 (Mon, 20 Oct 2025) EllapsedTime: 50.8 seconds RetCode: 0 Status: OK