Package: BubbleTree Version: 2.39.0 Command: /home/biocbuild/bbs-3.22-bioc/R/bin/R CMD build --keep-empty-dirs --no-resave-data --md5 BubbleTree StartedAt: 2025-10-20 16:33:04 -0400 (Mon, 20 Oct 2025) EndedAt: 2025-10-20 16:34:20 -0400 (Mon, 20 Oct 2025) EllapsedTime: 76.1 seconds RetCode: 1 Status: ERROR PackageFile: None PackageFileSize: NA