Package: BubbleTree Version: 2.39.0 Command: /Library/Frameworks/R.framework/Resources/bin/R CMD build --keep-empty-dirs --no-resave-data BubbleTree StartedAt: 2025-10-21 16:20:52 -0400 (Tue, 21 Oct 2025) EndedAt: 2025-10-21 16:22:27 -0400 (Tue, 21 Oct 2025) EllapsedTime: 94.8 seconds RetCode: 1 Status: ERROR PackageFile: None PackageFileSize: NA