Package: BubbleTree Version: 2.39.0 Command: /Library/Frameworks/R.framework/Resources/bin/R CMD INSTALL BubbleTree StartedAt: 2025-10-22 15:23:14 -0400 (Wed, 22 Oct 2025) EndedAt: 2025-10-22 15:23:35 -0400 (Wed, 22 Oct 2025) EllapsedTime: 21.0 seconds RetCode: 0 Status: OK