Package: BrowserViz Version: 2.31.0 Command: /home/biocbuild/R/R/bin/R CMD INSTALL BrowserViz StartedAt: 2025-10-23 20:30:25 -0000 (Thu, 23 Oct 2025) EndedAt: 2025-10-23 20:30:31 -0000 (Thu, 23 Oct 2025) EllapsedTime: 5.5 seconds RetCode: 0 Status: OK