Package: BrowserViz Version: 2.31.0 Command: /home/biocbuild/bbs-3.22-bioc/R/bin/R CMD INSTALL BrowserViz StartedAt: 2025-10-22 15:11:54 -0400 (Wed, 22 Oct 2025) EndedAt: 2025-10-22 15:11:58 -0400 (Wed, 22 Oct 2025) EllapsedTime: 4.1 seconds RetCode: 0 Status: OK