Package: BrowserViz Version: 2.31.0 Command: /Library/Frameworks/R.framework/Resources/bin/R CMD INSTALL BrowserViz StartedAt: 2025-10-21 15:16:08 -0400 (Tue, 21 Oct 2025) EndedAt: 2025-10-21 15:16:18 -0400 (Tue, 21 Oct 2025) EllapsedTime: 9.9 seconds RetCode: 0 Status: OK