Package: BrowserViz Version: 2.31.0 Command: /Library/Frameworks/R.framework/Resources/bin/R CMD check --install=check:BrowserViz.install-out.txt --library=/Library/Frameworks/R.framework/Resources/library --no-vignettes --timings BrowserViz_2.31.0.tar.gz StartedAt: 2025-10-21 20:40:01 -0400 (Tue, 21 Oct 2025) EndedAt: 2025-10-21 20:40:36 -0400 (Tue, 21 Oct 2025) EllapsedTime: 35.5 seconds RetCode: 0 Status: OK CheckDir: BrowserViz.Rcheck Warnings: 0