Package: BrowserViz Version: 2.31.0 Command: /Library/Frameworks/R.framework/Resources/bin/R CMD check --install=check:BrowserViz.install-out.txt --library=/Library/Frameworks/R.framework/Resources/library --no-vignettes --timings BrowserViz_2.31.0.tar.gz StartedAt: 2025-10-22 18:47:58 -0400 (Wed, 22 Oct 2025) EndedAt: 2025-10-22 18:48:12 -0400 (Wed, 22 Oct 2025) EllapsedTime: 14.2 seconds RetCode: 0 Status: OK CheckDir: BrowserViz.Rcheck Warnings: 0