Package: BloodGen3Module Version: 1.17.0 Command: /home/biocbuild/R/R/bin/R CMD check --install=check:BloodGen3Module.install-out.txt --library=/home/biocbuild/R/R/site-library --no-vignettes --timings BloodGen3Module_1.17.0.tar.gz StartedAt: 2025-10-17 06:51:16 -0000 (Fri, 17 Oct 2025) EndedAt: 2025-10-17 06:57:55 -0000 (Fri, 17 Oct 2025) EllapsedTime: 398.5 seconds RetCode: 0 Status: WARNINGS CheckDir: BloodGen3Module.Rcheck Warnings: 1