Package: BloodGen3Module Version: 1.18.0 Command: /home/biocbuild/bbs-3.22-bioc/R/bin/R CMD INSTALL BloodGen3Module StartedAt: 2025-11-13 15:27:14 -0500 (Thu, 13 Nov 2025) EndedAt: 2025-11-13 15:27:48 -0500 (Thu, 13 Nov 2025) EllapsedTime: 34.0 seconds RetCode: 0 Status: OK