Package: BloodGen3Module Version: 1.18.0 Command: /home/biocbuild/bbs-3.22-bioc/R/bin/R CMD build --keep-empty-dirs --no-resave-data --md5 BloodGen3Module StartedAt: 2025-11-13 16:34:22 -0500 (Thu, 13 Nov 2025) EndedAt: 2025-11-13 16:35:36 -0500 (Thu, 13 Nov 2025) EllapsedTime: 74.1 seconds RetCode: 0 Status: OK PackageFile: BloodGen3Module_1.18.0.tar.gz PackageFileSize: 179.6 KiB