Package: BloodGen3Module Version: 1.18.0 Command: /Library/Frameworks/R.framework/Resources/bin/R CMD check --install=check:BloodGen3Module.install-out.txt --library=/Library/Frameworks/R.framework/Resources/library --no-vignettes --timings BloodGen3Module_1.18.0.tar.gz StartedAt: 2025-11-03 19:51:45 -0500 (Mon, 03 Nov 2025) EndedAt: 2025-11-03 19:58:54 -0500 (Mon, 03 Nov 2025) EllapsedTime: 428.2 seconds RetCode: 0 Status: WARNINGS CheckDir: BloodGen3Module.Rcheck Warnings: 1