Package: Biostrings Version: 2.77.2 Command: /home/biocbuild/R/R/bin/R CMD build --keep-empty-dirs --no-resave-data Biostrings StartedAt: 2025-10-16 23:35:57 -0000 (Thu, 16 Oct 2025) EndedAt: 2025-10-16 23:37:06 -0000 (Thu, 16 Oct 2025) EllapsedTime: 69.0 seconds RetCode: 0 Status: OK PackageFile: Biostrings_2.77.2.tar.gz PackageFileSize: 12.08 MiB