Package: Biostrings Version: 2.77.2 Command: F:\biocbuild\bbs-3.22-bioc\R\bin\R.exe CMD check --no-multiarch --install=check:Biostrings.install-out.txt --library=F:\biocbuild\bbs-3.22-bioc\R\library --no-vignettes --timings Biostrings_2.77.2.tar.gz StartedAt: 2025-08-15 01:05:08 -0400 (Fri, 15 Aug 2025) EndedAt: 2025-08-15 01:16:39 -0400 (Fri, 15 Aug 2025) EllapsedTime: 691.1 seconds RetCode: 0 Status: WARNINGS CheckDir: Biostrings.Rcheck Warnings: 2