Package: Biostrings Version: 2.77.2 Command: rm -rf Biostrings.buildbin-libdir && mkdir Biostrings.buildbin-libdir && F:\biocbuild\bbs-3.22-bioc\R\bin\R.exe CMD INSTALL --build --library=Biostrings.buildbin-libdir Biostrings_2.77.2.tar.gz StartedAt: 2025-08-15 09:50:57 -0400 (Fri, 15 Aug 2025) EndedAt: 2025-08-15 09:54:44 -0400 (Fri, 15 Aug 2025) EllapsedTime: 226.6 seconds RetCode: 0 Status: OK PackageFile: Biostrings_2.77.2.zip PackageFileSize: 13.1 MiB