Package: Biostrings Version: 2.77.2 Command: /home/biocbuild/bbs-3.22-bioc/R/bin/R CMD build --keep-empty-dirs --no-resave-data --md5 Biostrings StartedAt: 2025-10-22 16:30:30 -0400 (Wed, 22 Oct 2025) EndedAt: 2025-10-22 16:31:22 -0400 (Wed, 22 Oct 2025) EllapsedTime: 52.0 seconds RetCode: 0 Status: OK PackageFile: Biostrings_2.77.2.tar.gz PackageFileSize: 12.23 MiB