Package: Biostrings Version: 2.77.2 Command: rm -rf Biostrings.buildbin-libdir && mkdir Biostrings.buildbin-libdir && /Users/biocbuild/BBS/utils/build-universal.sh Biostrings_2.77.2.tar.gz /Library/Frameworks/R.framework/Resources/bin/R Biostrings.buildbin-libdir StartedAt: 2025-10-20 02:58:49 -0400 (Mon, 20 Oct 2025) EndedAt: 2025-10-20 02:59:42 -0400 (Mon, 20 Oct 2025) EllapsedTime: 53.0 seconds RetCode: 0 Status: OK PackageFile: Biostrings_2.77.2.tgz PackageFileSize: 13.5 MiB