Package: Biostrings Version: 2.77.2 Command: /Library/Frameworks/R.framework/Resources/bin/R CMD INSTALL Biostrings StartedAt: 2025-10-23 15:07:55 -0400 (Thu, 23 Oct 2025) EndedAt: 2025-10-23 15:08:06 -0400 (Thu, 23 Oct 2025) EllapsedTime: 11.0 seconds RetCode: 0 Status: OK