Package: Biostrings Version: 2.77.2 Command: /Library/Frameworks/R.framework/Resources/bin/R CMD check --install=check:Biostrings.install-out.txt --library=/Library/Frameworks/R.framework/Resources/library --no-vignettes --timings Biostrings_2.77.2.tar.gz StartedAt: 2025-10-26 18:55:34 -0400 (Sun, 26 Oct 2025) EndedAt: 2025-10-26 18:59:20 -0400 (Sun, 26 Oct 2025) EllapsedTime: 225.6 seconds RetCode: 0 Status: WARNINGS CheckDir: Biostrings.Rcheck Warnings: 1