Package: Biostrings Version: 2.77.2 Command: /Library/Frameworks/R.framework/Resources/bin/R CMD build --keep-empty-dirs --no-resave-data Biostrings StartedAt: 2025-10-24 15:49:32 -0400 (Fri, 24 Oct 2025) EndedAt: 2025-10-24 15:49:57 -0400 (Fri, 24 Oct 2025) EllapsedTime: 24.3 seconds RetCode: 0 Status: OK PackageFile: Biostrings_2.77.2.tar.gz PackageFileSize: 12.23 MiB