Package: BiocSklearn Version: 1.31.0 Command: /home/biocbuild/R/R/bin/R CMD INSTALL BiocSklearn StartedAt: 2025-10-06 20:30:27 -0000 (Mon, 06 Oct 2025) EndedAt: 2025-10-06 20:30:58 -0000 (Mon, 06 Oct 2025) EllapsedTime: 30.4 seconds RetCode: 0 Status: OK