Package: BiocSklearn Version: 1.31.0 Command: /home/biocbuild/R/R/bin/R CMD check --install=check:BiocSklearn.install-out.txt --library=/home/biocbuild/R/R/site-library --no-vignettes --timings BiocSklearn_1.31.0.tar.gz StartedAt: 2025-10-10 05:57:01 -0000 (Fri, 10 Oct 2025) EndedAt: 2025-10-10 06:41:55 -0000 (Fri, 10 Oct 2025) EllapsedTime: 2693.3 seconds RetCode: None Status: TIMEOUT CheckDir: BiocSklearn.Rcheck Warnings: NA