Package: BiocSklearn Version: 1.31.0 Command: /home/biocbuild/bbs-3.22-bioc/R/bin/R CMD build --keep-empty-dirs --no-resave-data --md5 BiocSklearn StartedAt: 2025-10-06 16:27:23 -0400 (Mon, 06 Oct 2025) EndedAt: 2025-10-06 16:27:58 -0400 (Mon, 06 Oct 2025) EllapsedTime: 35.0 seconds RetCode: 0 Status: OK PackageFile: BiocSklearn_1.31.0.tar.gz PackageFileSize: 32.52 MiB