Package: BiocSklearn Version: 1.31.0 Command: /Library/Frameworks/R.framework/Resources/bin/R CMD check --install=check:BiocSklearn.install-out.txt --library=/Library/Frameworks/R.framework/Resources/library --no-vignettes --timings BiocSklearn_1.31.0.tar.gz StartedAt: 2025-10-10 18:25:40 -0400 (Fri, 10 Oct 2025) EndedAt: 2025-10-10 18:26:41 -0400 (Fri, 10 Oct 2025) EllapsedTime: 60.8 seconds RetCode: 0 Status: OK CheckDir: BiocSklearn.Rcheck Warnings: 0