Package: BiocSingular Version: 1.25.0 Command: /home/biocbuild/R/R/bin/R CMD INSTALL BiocSingular StartedAt: 2025-10-23 21:16:11 -0000 (Thu, 23 Oct 2025) EndedAt: 2025-10-23 21:16:50 -0000 (Thu, 23 Oct 2025) EllapsedTime: 39.5 seconds RetCode: 0 Status: OK