Package: BiocSingular Version: 1.25.0 Command: /home/biocbuild/R/R/bin/R CMD check --install=check:BiocSingular.install-out.txt --library=/home/biocbuild/R/R/site-library --no-vignettes --timings BiocSingular_1.25.0.tar.gz StartedAt: 2025-10-21 04:57:59 -0000 (Tue, 21 Oct 2025) EndedAt: 2025-10-21 04:59:34 -0000 (Tue, 21 Oct 2025) EllapsedTime: 95.3 seconds RetCode: 1 Status: ERROR CheckDir: BiocSingular.Rcheck Warnings: NA