Package: BiocSingular Version: 1.25.0 Command: rm -rf BiocSingular.buildbin-libdir && mkdir BiocSingular.buildbin-libdir && F:\biocbuild\bbs-3.22-bioc\R\bin\R.exe CMD INSTALL --build --library=BiocSingular.buildbin-libdir BiocSingular_1.25.0.tar.gz StartedAt: 2025-08-15 09:49:50 -0400 (Fri, 15 Aug 2025) EndedAt: 2025-08-15 09:50:46 -0400 (Fri, 15 Aug 2025) EllapsedTime: 56.4 seconds RetCode: 0 Status: OK PackageFile: BiocSingular_1.25.0.zip PackageFileSize: 1.228 MiB