Package: BiocSingular Version: 1.26.0 Command: /Library/Frameworks/R.framework/Resources/bin/R CMD check --install=check:BiocSingular.install-out.txt --library=/Library/Frameworks/R.framework/Resources/library --no-vignettes --timings BiocSingular_1.26.0.tar.gz StartedAt: 2025-11-10 18:58:25 -0500 (Mon, 10 Nov 2025) EndedAt: 2025-11-10 18:59:29 -0500 (Mon, 10 Nov 2025) EllapsedTime: 64.9 seconds RetCode: 0 Status: WARNINGS CheckDir: BiocSingular.Rcheck Warnings: 1