Package: BiocSingular Version: 1.26.0 Command: /Library/Frameworks/R.framework/Resources/bin/R CMD build --keep-empty-dirs --no-resave-data BiocSingular StartedAt: 2025-11-10 15:45:54 -0500 (Mon, 10 Nov 2025) EndedAt: 2025-11-10 15:46:09 -0500 (Mon, 10 Nov 2025) EllapsedTime: 15.2 seconds RetCode: 0 Status: OK PackageFile: BiocSingular_1.26.0.tar.gz PackageFileSize: 602.2 KiB