Package: BiocSet Version: 1.23.0 Command: rm -rf BiocSet.buildbin-libdir && mkdir BiocSet.buildbin-libdir && F:\biocbuild\bbs-3.22-bioc\R\bin\R.exe CMD INSTALL --build --library=BiocSet.buildbin-libdir BiocSet_1.23.0.tar.gz StartedAt: 2025-08-15 09:49:48 -0400 (Fri, 15 Aug 2025) EndedAt: 2025-08-15 09:50:50 -0400 (Fri, 15 Aug 2025) EllapsedTime: 61.5 seconds RetCode: 0 Status: OK PackageFile: BiocSet_1.23.0.zip PackageFileSize: 784.3 KiB