Package: BiocSet Version: 1.24.0 Command: /home/biocbuild/bbs-3.22-bioc/R/bin/R CMD check --install=check:BiocSet.install-out.txt --library=/home/biocbuild/bbs-3.22-bioc/R/site-library --timings BiocSet_1.24.0.tar.gz StartedAt: 2025-11-16 21:40:14 -0500 (Sun, 16 Nov 2025) EndedAt: 2025-11-16 21:50:21 -0500 (Sun, 16 Nov 2025) EllapsedTime: 607.6 seconds RetCode: 0 Status: OK CheckDir: BiocSet.Rcheck Warnings: 0