Package: BiocPkgTools Version: 1.27.12 Command: /home/biocbuild/bbs-3.22-bioc/R/bin/R CMD check --install=check:BiocPkgTools.install-out.txt --library=/home/biocbuild/bbs-3.22-bioc/R/site-library --timings BiocPkgTools_1.27.12.tar.gz StartedAt: 2025-10-21 21:32:03 -0400 (Tue, 21 Oct 2025) EndedAt: 2025-10-21 21:45:40 -0400 (Tue, 21 Oct 2025) EllapsedTime: 816.9 seconds RetCode: 0 Status: OK CheckDir: BiocPkgTools.Rcheck Warnings: 0