Package: BiocPkgTools Version: 1.28.0 Command: /Library/Frameworks/R.framework/Resources/bin/R CMD INSTALL BiocPkgTools StartedAt: 2025-11-03 15:20:58 -0500 (Mon, 03 Nov 2025) EndedAt: 2025-11-03 15:21:15 -0500 (Mon, 03 Nov 2025) EllapsedTime: 16.7 seconds RetCode: 0 Status: OK