Package: BiocPkgTools Version: 1.27.12 Command: /Library/Frameworks/R.framework/Resources/bin/R CMD check --install=check:BiocPkgTools.install-out.txt --library=/Library/Frameworks/R.framework/Resources/library --no-vignettes --timings BiocPkgTools_1.27.12.tar.gz StartedAt: 2025-10-21 20:31:25 -0400 (Tue, 21 Oct 2025) EndedAt: 2025-10-21 20:45:16 -0400 (Tue, 21 Oct 2025) EllapsedTime: 831.1 seconds RetCode: 0 Status: OK CheckDir: BiocPkgTools.Rcheck Warnings: 0