Package: BiocPkgTools Version: 1.28.0 Command: /Library/Frameworks/R.framework/Resources/bin/R CMD build --keep-empty-dirs --no-resave-data BiocPkgTools StartedAt: 2025-11-03 16:14:25 -0500 (Mon, 03 Nov 2025) EndedAt: 2025-11-03 16:16:31 -0500 (Mon, 03 Nov 2025) EllapsedTime: 125.9 seconds RetCode: 1 Status: ERROR PackageFile: None PackageFileSize: NA