Package: BiocPkgTools Version: 1.27.12 Command: rm -rf BiocPkgTools.buildbin-libdir && mkdir BiocPkgTools.buildbin-libdir && /Users/biocbuild/BBS/utils/build-universal.sh BiocPkgTools_1.27.12.tar.gz /Library/Frameworks/R.framework/Resources/bin/R BiocPkgTools.buildbin-libdir StartedAt: 2025-10-22 02:14:34 -0400 (Wed, 22 Oct 2025) EndedAt: 2025-10-22 02:14:54 -0400 (Wed, 22 Oct 2025) EllapsedTime: 19.8 seconds RetCode: 0 Status: OK PackageFile: BiocPkgTools_1.27.12.tgz PackageFileSize: 1.146 MiB