Package: BiocIO Version: 1.19.0 Command: /home/biocbuild/bbs-3.22-bioc/R/bin/R CMD INSTALL BiocIO StartedAt: 2025-10-19 15:13:39 -0400 (Sun, 19 Oct 2025) EndedAt: 2025-10-19 15:13:46 -0400 (Sun, 19 Oct 2025) EllapsedTime: 7.6 seconds RetCode: 0 Status: OK