Package: BiocIO Version: 1.19.0 Command: /home/biocbuild/bbs-3.22-bioc/R/bin/R CMD build --keep-empty-dirs --no-resave-data --md5 BiocIO StartedAt: 2025-10-20 16:26:54 -0400 (Mon, 20 Oct 2025) EndedAt: 2025-10-20 16:27:02 -0400 (Mon, 20 Oct 2025) EllapsedTime: 8.0 seconds RetCode: 0 Status: OK PackageFile: BiocIO_1.19.0.tar.gz PackageFileSize: 226.9 KiB