Package: BiocIO Version: 1.19.0 Command: /Library/Frameworks/R.framework/Resources/bin/R CMD check --install=check:BiocIO.install-out.txt --library=/Library/Frameworks/R.framework/Resources/library --no-vignettes --timings BiocIO_1.19.0.tar.gz StartedAt: 2025-10-23 19:39:35 -0400 (Thu, 23 Oct 2025) EndedAt: 2025-10-23 19:40:34 -0400 (Thu, 23 Oct 2025) EllapsedTime: 58.2 seconds RetCode: 0 Status: OK CheckDir: BiocIO.Rcheck Warnings: 0