Package: BiocIO Version: 1.19.0 Command: rm -rf BiocIO.buildbin-libdir && mkdir BiocIO.buildbin-libdir && /Users/biocbuild/BBS/utils/build-universal.sh BiocIO_1.19.0.tar.gz /Library/Frameworks/R.framework/Resources/bin/R BiocIO.buildbin-libdir StartedAt: 2025-10-24 01:24:00 -0400 (Fri, 24 Oct 2025) EndedAt: 2025-10-24 01:24:11 -0400 (Fri, 24 Oct 2025) EllapsedTime: 11.7 seconds RetCode: 0 Status: OK PackageFile: BiocIO_1.19.0.tgz PackageFileSize: 418.4 KiB