Package: BiocHubsShiny Version: 1.9.2 Command: /home/biocbuild/R/R/bin/R CMD INSTALL BiocHubsShiny StartedAt: 2025-10-23 20:47:45 -0000 (Thu, 23 Oct 2025) EndedAt: 2025-10-23 20:48:04 -0000 (Thu, 23 Oct 2025) EllapsedTime: 19.1 seconds RetCode: 0 Status: OK