Package: BiocHubsShiny Version: 1.9.1 Command: rm -rf BiocHubsShiny.buildbin-libdir && mkdir BiocHubsShiny.buildbin-libdir && F:\biocbuild\bbs-3.22-bioc\R\bin\R.exe CMD INSTALL --build --library=BiocHubsShiny.buildbin-libdir BiocHubsShiny_1.9.1.tar.gz StartedAt: 2025-08-15 09:49:16 -0400 (Fri, 15 Aug 2025) EndedAt: 2025-08-15 09:49:46 -0400 (Fri, 15 Aug 2025) EllapsedTime: 30.2 seconds RetCode: 0 Status: OK PackageFile: BiocHubsShiny_1.9.1.zip PackageFileSize: 744.8 KiB