Package: BiocHubsShiny Version: 1.9.2 Command: /home/biocbuild/bbs-3.22-bioc/R/bin/R CMD check --install=check:BiocHubsShiny.install-out.txt --library=/home/biocbuild/bbs-3.22-bioc/R/site-library --timings BiocHubsShiny_1.9.2.tar.gz StartedAt: 2025-10-20 21:26:55 -0400 (Mon, 20 Oct 2025) EndedAt: 2025-10-20 21:29:18 -0400 (Mon, 20 Oct 2025) EllapsedTime: 143.2 seconds RetCode: 0 Status: OK CheckDir: BiocHubsShiny.Rcheck Warnings: 0